BEGIN:VCALENDAR
VERSION:2.0
PRODID:-//wp-events-plugin.com//7.2.3.1//EN
BEGIN:VEVENT
UID:79@pamamemoriademocratica.es
DTSTART:20250411T193000Z
DTEND:20250411T193000Z
DTSTAMP:20250409T074031Z
URL:https://pamamemoriademocratica.es/agenda/aproximacion-a-antonio-machad
 o-2/
SUMMARY:Aproximación a Antonio Machado
DESCRIPTION:
LOCATION:Espacio Cultural Monzón\, Calle San Antonio\, Monzón\, España
X-APPLE-STRUCTURED-LOCATION;VALUE=URI;X-ADDRESS=Calle San Antonio\, Monzón
 \, España;X-APPLE-RADIUS=100;X-TITLE=Espacio Cultural Monzón:geo:0,0
END:VEVENT
END:VCALENDAR