BEGIN:VCALENDAR
VERSION:2.0
PRODID:-//wp-events-plugin.com//7.2.3.1//EN
BEGIN:VEVENT
UID:97@pamamemoriademocratica.es
DTSTART:20251018T180000Z
DTEND:20251018T180000Z
DTSTAMP:20251015T114336Z
URL:https://pamamemoriademocratica.es/agenda/cine-forum-el-peligro-del-pas
 ado/
SUMMARY:Cine Forum: El peligro del pasado
DESCRIPTION:
LOCATION:Filmoteca de Zaragoza\, Plaza San Carlos 4\, Zaragoza\, España
X-APPLE-STRUCTURED-LOCATION;VALUE=URI;X-ADDRESS=Plaza San Carlos 4\, Zarago
 za\, España;X-APPLE-RADIUS=100;X-TITLE=Filmoteca de Zaragoza:geo:0,0
END:VEVENT
END:VCALENDAR