BEGIN:VCALENDAR
VERSION:2.0
PRODID:-//wp-events-plugin.com//7.2.3.1//EN
BEGIN:VEVENT
UID:132@pamamemoriademocratica.es
DTSTART:20260216T190000Z
DTEND:20260216T190000Z
DTSTAMP:20260213T112331Z
URL:https://pamamemoriademocratica.es/agenda/escuela-republicana-hector-vi
 cente-sanchez/
SUMMARY:Escuela Republicana: Héctor Vicente Sánchez
DESCRIPTION:
LOCATION:Librería la Pantera Rossa\, San Vicente de Paul\, Zaragoza\, 5000
 2\, España
X-APPLE-STRUCTURED-LOCATION;VALUE=URI;X-ADDRESS=San Vicente de Paul\, Zarag
 oza\, 50002\, España;X-APPLE-RADIUS=100;X-TITLE=Librería la Pantera Ross
 a:geo:0,0
END:VEVENT
END:VCALENDAR