BEGIN:VCALENDAR
VERSION:2.0
PRODID:-//wp-events-plugin.com//7.2.3.1//EN
BEGIN:VEVENT
UID:99@pamamemoriademocratica.es
DTSTART:20251021T180000Z
DTEND:20251021T180000Z
DTSTAMP:20251015T114524Z
URL:https://pamamemoriademocratica.es/agenda/iglesia-y-memoria-democratica
 -cuando-todo-depende-de-quien-recuerda/
SUMMARY:Iglesia y Memoria Democrática: cuando todo depende de quien recuer
 da
DESCRIPTION:
LOCATION:DPZ Antiguo Salón de Plenos\, Plaza España 1\, Zaragoza\, Españ
 a
X-APPLE-STRUCTURED-LOCATION;VALUE=URI;X-ADDRESS=Plaza España 1\, Zaragoza\
 , España;X-APPLE-RADIUS=100;X-TITLE=DPZ Antiguo Salón de Plenos:geo:0,0
END:VEVENT
END:VCALENDAR